BEGIN:VCALENDAR
VERSION:2.0
PRODID:-//Rhode Island Alcoholics Anonymous 24/7 (401)438-8860 - ECPv6.15.20//NONSGML v1.0//EN
CALSCALE:GREGORIAN
METHOD:PUBLISH
X-WR-CALNAME:Rhode Island Alcoholics Anonymous 24/7 (401)438-8860
X-ORIGINAL-URL:https://rhodeisland-aa.org
X-WR-CALDESC:Events for Rhode Island Alcoholics Anonymous 24/7 (401)438-8860
REFRESH-INTERVAL;VALUE=DURATION:PT1H
X-Robots-Tag:noindex
X-PUBLISHED-TTL:PT1H
BEGIN:VTIMEZONE
TZID:America/New_York
BEGIN:DAYLIGHT
TZOFFSETFROM:-0500
TZOFFSETTO:-0400
TZNAME:EDT
DTSTART:20240310T070000
END:DAYLIGHT
BEGIN:STANDARD
TZOFFSETFROM:-0400
TZOFFSETTO:-0500
TZNAME:EST
DTSTART:20241103T060000
END:STANDARD
BEGIN:DAYLIGHT
TZOFFSETFROM:-0500
TZOFFSETTO:-0400
TZNAME:EDT
DTSTART:20250309T070000
END:DAYLIGHT
BEGIN:STANDARD
TZOFFSETFROM:-0400
TZOFFSETTO:-0500
TZNAME:EST
DTSTART:20251102T060000
END:STANDARD
BEGIN:DAYLIGHT
TZOFFSETFROM:-0500
TZOFFSETTO:-0400
TZNAME:EDT
DTSTART:20260308T070000
END:DAYLIGHT
BEGIN:STANDARD
TZOFFSETFROM:-0400
TZOFFSETTO:-0500
TZNAME:EST
DTSTART:20261101T060000
END:STANDARD
END:VTIMEZONE
BEGIN:VEVENT
DTSTART;TZID=America/New_York:20250719T120000
DTEND;TZID=America/New_York:20250719T180000
DTSTAMP:20260421T041356
CREATED:20250605T145352Z
LAST-MODIFIED:20250605T161024Z
UID:175922-1752926400-1752948000@rhodeisland-aa.org
SUMMARY:4th Annual Fellowship Picnic
DESCRIPTION:            4th ANNUAL \n FELLOWSHIP \n \n      \n  \n  \n  SPONSORED BY RI CENTRAL SERVICE \nSATURDAY\, JULY 19th\, 2025 \n(Rain Date: Sunday\, July 20th\, 2025) \nCOLT STATE PARK\,\n114 Hope St. Bristol\, RI \nSites 33 & 34 \n12NOON to 6PM\n5PM AA Meeting \nWe will supply the Hamburgers\, Hot Dogs and \ncondiments and water \nBring your own drinks\, your own chair and a \ndish to share\nTickets are $10 Suggested Donation \nPlease buy in advance so we can estimate \namount of food needed \nFood\, Folks\, and Fun \n \nClick Here to Download Flier 
URL:https://rhodeisland-aa.org/event/__trashed/
LOCATION:Colt State Park\, 114 Hope St\, Bristol\, RI\, United States
ORGANIZER;CN="RI Central Service":MAILTO:RICS @rhodeisland-aa.org
END:VEVENT
END:VCALENDAR