BEGIN:VCALENDAR
VERSION:2.0
PRODID:-//Rhode Island Alcoholics Anonymous 24/7 (401)438-8860 - ECPv6.15.20//NONSGML v1.0//EN
CALSCALE:GREGORIAN
METHOD:PUBLISH
X-WR-CALNAME:Rhode Island Alcoholics Anonymous 24/7 (401)438-8860
X-ORIGINAL-URL:https://rhodeisland-aa.org
X-WR-CALDESC:Events for Rhode Island Alcoholics Anonymous 24/7 (401)438-8860
REFRESH-INTERVAL;VALUE=DURATION:PT1H
X-Robots-Tag:noindex
X-PUBLISHED-TTL:PT1H
BEGIN:VTIMEZONE
TZID:America/Halifax
BEGIN:DAYLIGHT
TZOFFSETFROM:-0400
TZOFFSETTO:-0300
TZNAME:ADT
DTSTART:20220313T060000
END:DAYLIGHT
BEGIN:STANDARD
TZOFFSETFROM:-0300
TZOFFSETTO:-0400
TZNAME:AST
DTSTART:20221106T050000
END:STANDARD
BEGIN:DAYLIGHT
TZOFFSETFROM:-0400
TZOFFSETTO:-0300
TZNAME:ADT
DTSTART:20230312T060000
END:DAYLIGHT
BEGIN:STANDARD
TZOFFSETFROM:-0300
TZOFFSETTO:-0400
TZNAME:AST
DTSTART:20231105T050000
END:STANDARD
BEGIN:DAYLIGHT
TZOFFSETFROM:-0400
TZOFFSETTO:-0300
TZNAME:ADT
DTSTART:20240310T060000
END:DAYLIGHT
BEGIN:STANDARD
TZOFFSETFROM:-0300
TZOFFSETTO:-0400
TZNAME:AST
DTSTART:20241103T050000
END:STANDARD
END:VTIMEZONE
BEGIN:VEVENT
DTSTART;TZID=America/Halifax:20230419T190000
DTEND;TZID=America/Halifax:20230419T203000
DTSTAMP:20260420T022017
CREATED:20220223T175756Z
LAST-MODIFIED:20230404T140204Z
UID:116689-1681930800-1681936200@rhodeisland-aa.org
SUMMARY:RI Central Service Delegates Meeting
DESCRIPTION:RI CENTRAL SERVICE \nDELEGATES COMMITTEE MEETING \n  \n \nWhere: Wherever you feel comfortable with your computer in front of you \nWhen: Wednesday\, April 19 \, 2023    \nTime: 7:00PM \nDON’T DRINK & GO TO ZOOM MEETINGS \nClick Here to join Meeting 
URL:https://rhodeisland-aa.org/event/ri-central-service-delegates-committee-meeting/
LOCATION:Zoom
ORGANIZER;CN="RI Central Service":MAILTO:RICS @rhodeisland-aa.org
END:VEVENT
END:VCALENDAR